BEGIN:VCALENDAR
VERSION:2.0
PRODID:-//ChamberMaster//Event Calendar 2.0//EN
METHOD:PUBLISH
X-PUBLISHED-TTL:P3D
REFRESH-INTERVAL:P3D
CALSCALE:GREGORIAN
BEGIN:VEVENT
DTSTART:20180507T140000Z
DTEND:20180507T183000Z
X-MICROSOFT-CDO-ALLDAYEVENT:FALSE
SUMMARY:Rio Grande Valley Small Business Focus Groups
DESCRIPTION:Supporting Small Business to Build Healthy Communities\n\n \n\nSmall Business Majority\, a national non-profit organization\, is partnering with the Harlingen Area Chamber of Commerce\, the Weslaco Area Chamber of Commerce and the Robert Wood Johnson Foundation (RWJF) on a research project to better understand the needs\, challenges and views of small business owners in the RGV area.\n\n \n\nPlease join us at one of two sessions on Monday\, May 7\, 2018 to participate in an interactive discussion on these topics. We want to hear from you on what you need in order to grow and thrive in your community\, and what policy solutions would help your business reach its full potential.\n\n \n\nThis is a free event. Food will be provided to participants and each session will have ten $25 Amazon gift cards available for a participant drawing\, therefore registration is required!
X-ALT-DESC;FMTTYPE=text/html:Supporting Small Business to Build Healthy Communities<br />\n&nbsp\;<br />\nSmall Business Majority\, a national non-profit organization\, is partnering with the Harlingen Area Chamber of Commerce\, the Weslaco Area Chamber of Commerce and the Robert Wood Johnson Foundation (RWJF) on a research project to better understand the needs\, challenges and views of small business owners in the RGV area.<br />\n&nbsp\;<br />\nPlease join us at one of two sessions on Monday\, May 7\, 2018 to participate in an interactive discussion on these topics. We want to hear from you on what you need in order to grow and thrive in your community\, and what policy solutions would help your business reach its full potential.<br />\n&nbsp\;<br />\nThis is a free event. Food will be provided to participants and each session will have ten $25 Amazon gift cards available for a participant drawing\, therefore registration is required!<br />\n&nbsp\;
LOCATION:Harlingen Area Chamber of Commerce 311 East Tyler Avenue Harlingen\, TX 78550
UID:e.1244.16868
SEQUENCE:3
DTSTAMP:20260421T075014Z
URL:https://business.weslaco.com/events/details/rio-grande-valley-small-business-focus-groups-16868
END:VEVENT

END:VCALENDAR
