BEGIN:VCALENDAR
VERSION:2.0
PRODID:-//ChamberMaster//Event Calendar 2.0//EN
METHOD:PUBLISH
X-PUBLISHED-TTL:P3D
REFRESH-INTERVAL:P3D
CALSCALE:GREGORIAN
BEGIN:VEVENT
DTSTART:20190802T140000Z
DTEND:20190802T200000Z
X-MICROSOFT-CDO-ALLDAYEVENT:FALSE
SUMMARY:Robotics Summer Camp at VNC
DESCRIPTION:Robotics Summer Camp at Valley Nature Center. Two meals and two snacks will be provided each day. Every Friday will be splash day in the pool!
X-ALT-DESC;FMTTYPE=text/html:Robotics Summer Camp at Valley Nature Center. Two meals and two snacks will be provided each day. Every Friday will be splash day in the pool!
LOCATION:Valley Nature Center 301 S. Border Ave.
UID:e.1244.18166
SEQUENCE:3
DTSTAMP:20260420T062258Z
URL:https://business.weslaco.com/events/details/robotics-summer-camp-at-vnc-08-02-2019-18166
END:VEVENT

END:VCALENDAR
