BEGIN:VCALENDAR
VERSION:2.0
PRODID:-//ChamberMaster//Event Calendar 2.0//EN
METHOD:PUBLISH
X-PUBLISHED-TTL:P3D
REFRESH-INTERVAL:P3D
CALSCALE:GREGORIAN
BEGIN:VEVENT
DTSTART:20160819T180000Z
DTEND:20160819T190000Z
X-MICROSOFT-CDO-ALLDAYEVENT:FALSE
SUMMARY:Rodeo Dental Ribbon Cutting
DESCRIPTION:
X-ALT-DESC;FMTTYPE=text/html:
LOCATION:1901 W. Expressway 83\, Ste. 800 Weslaco\, TX
UID:e.1244.10997
SEQUENCE:3
DTSTAMP:20260422T184301Z
URL:https://business.weslaco.com/events/details/rodeo-dental-ribbon-cutting-08-19-2016-10997
END:VEVENT

END:VCALENDAR
