BEGIN:VCALENDAR
VERSION:2.0
PRODID:-//ChamberMaster//Event Calendar 2.0//EN
METHOD:PUBLISH
X-PUBLISHED-TTL:P3D
REFRESH-INTERVAL:P3D
CALSCALE:GREGORIAN
BEGIN:VEVENT
DTSTART:20181016T123000Z
DTEND:20181016T170000Z
X-MICROSOFT-CDO-ALLDAYEVENT:FALSE
SUMMARY:Row Crop Grower Education Program
DESCRIPTION:Lower Rio Grande Valley row crop growers have a chance to learn practical ways to maximize efficiency and productivity in furrow irrigated production at half-day education program Oct. 16 in Weslaco. The Texas Water Resources Institute\, the Texas A&M AgriLife Extension Service\, and the Texas Water Development Board are co-hosting the program. Registration and coffee is at 7:30 a.m. at the Texas A&M Kingsville Citrus Center\, 312 N. International Blvd. The event is free\, but attendees are required to pre-register at http://twri.tamu.edu/irrigation by Oct. 10. Dr. Jason Krutz\, director of the Mississippi Water Resources Research Institute\, will give the keynote on maximizing profitability and reducing water use in furrow irrigated fields using a combination of technology and management approaches proven effective in the Mississippi Delta. There is a common misconception that furrow irrigation is not efficient\, but integrating new technologies into a furrow irrigation system has proven otherwise. A panel of local producers will discuss some unique factors impacting irrigation in the Valley and the challenges they pose when considering application of irrigation methods used in the southeast.
X-ALT-DESC;FMTTYPE=text/html:Lower Rio Grande Valley row crop growers have a chance to learn practical ways to maximize efficiency and productivity in furrow irrigated production at half-day education program Oct. 16 in Weslaco. The Texas Water Resources Institute\, the Texas A&amp\;M AgriLife Extension Service\, and the Texas Water Development Board are co-hosting the program. Registration and coffee is at 7:30 a.m. at the Texas A&amp\;M Kingsville Citrus Center\, 312 N. International Blvd. The event is free\, but attendees are required to pre-register at http://twri.tamu.edu/irrigation by Oct. 10. Dr. Jason Krutz\, director of the Mississippi Water Resources Research Institute\, will give the keynote on maximizing profitability and reducing water use in furrow irrigated fields using a combination of technology and management approaches proven effective in the Mississippi Delta. There is a common misconception that furrow irrigation is not efficient\, but integrating new technologies into a furrow irrigation system has proven otherwise. A panel of local producers will discuss some unique factors impacting irrigation in the Valley and the challenges they pose when considering application of irrigation methods used in the southeast.
LOCATION:Texas A&M Kingsville Citrus Center 312 N. International Blvd. Weslaco\, TX 78599
UID:e.1244.16981
SEQUENCE:3
DTSTAMP:20260420T230307Z
URL:https://business.weslaco.com/events/details/row-crop-grower-education-program-16981
END:VEVENT

END:VCALENDAR
