BEGIN:VCALENDAR
VERSION:2.0
PRODID:-//ChamberMaster//Event Calendar 2.0//EN
METHOD:PUBLISH
X-PUBLISHED-TTL:P3D
REFRESH-INTERVAL:P3D
CALSCALE:GREGORIAN
BEGIN:VEVENT
DTSTART:20160225T160000Z
DTEND:20160225T170000Z
X-MICROSOFT-CDO-ALLDAYEVENT:FALSE
SUMMARY:Santa Anna Apartments Ribbon Cutting
DESCRIPTION:
X-ALT-DESC;FMTTYPE=text/html:
LOCATION:
UID:e.1244.10928
SEQUENCE:3
DTSTAMP:20260423T040941Z
URL:https://business.weslaco.com/events/details/santa-anna-apartments-ribbon-cutting-02-25-2016-10928
END:VEVENT

END:VCALENDAR
