BEGIN:VCALENDAR
VERSION:2.0
PRODID:-//ChamberMaster//Event Calendar 2.0//EN
METHOD:PUBLISH
X-PUBLISHED-TTL:P3D
REFRESH-INTERVAL:P3D
CALSCALE:GREGORIAN
BEGIN:VEVENT
DTSTART:20171209T233000Z
DTEND:20171210T023000Z
X-MICROSOFT-CDO-ALLDAYEVENT:FALSE
SUMMARY:Santa Dash 5K and the Mid Valley Lighted Christmas Parade
DESCRIPTION:
X-ALT-DESC;FMTTYPE=text/html:
LOCATION:Downtown Weslaco Texas Blvd\, between Pike and 6th Street
UID:e.1244.14459
SEQUENCE:3
DTSTAMP:20260421T160201Z
URL:https://business.weslaco.com/events/details/santa-dash-5k-and-the-mid-valley-lighted-christmas-parade-14459
END:VEVENT

END:VCALENDAR
