BEGIN:VCALENDAR
VERSION:2.0
PRODID:-//ChamberMaster//Event Calendar 2.0//EN
METHOD:PUBLISH
X-PUBLISHED-TTL:P3D
REFRESH-INTERVAL:P3D
CALSCALE:GREGORIAN
BEGIN:VEVENT
DTSTART:20191207T150000Z
DTEND:20191207T160000Z
X-MICROSOFT-CDO-ALLDAYEVENT:FALSE
SUMMARY:Santa Dash 5K Walk/Run
DESCRIPTION:
X-ALT-DESC;FMTTYPE=text/html:
LOCATION:Weslaco City Hall 255 S. Kansas Blvd.
UID:e.1244.18812
SEQUENCE:3
DTSTAMP:20260419T233942Z
URL:https://business.weslaco.com/events/details/santa-dash-5k-walk-run-18812
END:VEVENT

END:VCALENDAR
