BEGIN:VCALENDAR
VERSION:2.0
PRODID:-//ChamberMaster//Event Calendar 2.0//EN
METHOD:PUBLISH
X-PUBLISHED-TTL:P3D
REFRESH-INTERVAL:P3D
CALSCALE:GREGORIAN
BEGIN:VEVENT
DTSTART:20141213T150000Z
DTEND:20141213T170000Z
X-MICROSOFT-CDO-ALLDAYEVENT:FALSE
SUMMARY:Santa's Bird Hike
DESCRIPTION:It shouldn't be a surprise that Santa's a birder: he loves keeping a list and checks it twice during his annual trip to the RGV to spot those South Texas specialties like Green Jay\, Plain Chachalaca and the Great Kiskadee.  Join Santa and his favorite bird guide friends on a special bird walk. Regular entrance fees apply.
X-ALT-DESC;FMTTYPE=text/html:It shouldn&#39\;t be a surprise that Santa&#39\;s a birder: he loves keeping a list and checks it twice during his annual trip to the RGV to spot those South Texas specialties like Green Jay\, Plain Chachalaca and the Great Kiskadee. &nbsp\;Join Santa and his favorite bird guide friends on a special bird walk. Regular entrance fees apply.&nbsp\;&nbsp\;&nbsp\;&nbsp\;
LOCATION:Estero Llano Grande State Park 3301 S. International Blvd.
UID:e.1244.5988
SEQUENCE:3
DTSTAMP:20260424T020516Z
URL:https://business.weslaco.com/events/details/santa-s-bird-hike-12-13-2014-5988
END:VEVENT

END:VCALENDAR
