BEGIN:VCALENDAR
VERSION:2.0
PRODID:-//ChamberMaster//Event Calendar 2.0//EN
METHOD:PUBLISH
X-PUBLISHED-TTL:P3D
REFRESH-INTERVAL:P3D
CALSCALE:GREGORIAN
BEGIN:VEVENT
DTSTART:20151219T200000Z
DTEND:20151219T220000Z
X-MICROSOFT-CDO-ALLDAYEVENT:FALSE
SUMMARY:Santa Visits Mayor Joe V. Sanchez Library
DESCRIPTION:Mayor Joe V. Sanchez Public Library presents "Santa Visits the Library!" Enjoy arts & crafts for the kids\, treats\, raffle\, prizes and pictures with Santa!
X-ALT-DESC;FMTTYPE=text/html:Mayor Joe V. Sanchez Public Library presents &quot\;Santa Visits the Library!&quot\; Enjoy arts &amp\; crafts for the kids\, treats\, raffle\, prizes and pictures with Santa!
LOCATION:Mayor Joe V. Sanchez Public Library 525 S. Kansas
UID:e.1244.9080
SEQUENCE:3
DTSTAMP:20260423T082237Z
URL:https://business.weslaco.com/events/details/santa-visits-mayor-joe-v-sanchez-library-12-19-2015-9080
END:VEVENT

END:VCALENDAR
