BEGIN:VCALENDAR
VERSION:2.0
PRODID:-//ChamberMaster//Event Calendar 2.0//EN
METHOD:PUBLISH
X-PUBLISHED-TTL:P3D
REFRESH-INTERVAL:P3D
CALSCALE:GREGORIAN
BEGIN:VEVENT
DTSTART:20200108T150000Z
DTEND:20200108T170000Z
X-MICROSOFT-CDO-ALLDAYEVENT:FALSE
SUMMARY:SBA Seminar - Business Marketing: The Marketing Essentials your Business Needs to Succeed
DESCRIPTION:Marketing is a topic many entrepreneurs ponder as they begin shaping their business ideas.   Marketing is a solution-driven process that benefits both the customer and the business owner. While advertising is important\, it is only a single component to the entire marketing process. A marketing plan is the blueprint of strategies to help you win and retain customers. Considered the heart of your business\, a marketing plan includes detailed information about your business location\, prices of products and services\, promotional methods\, and the product itself. \n\n			 \n\n			Now\, more than ever it's important for you to know how to distinguish your business from the competition and how to reach your ideal customers.   This workshop presented by the Women's Business Center-Rio Grande Valley will help you achieve this by covering the following topics:\n\n			 \n			\n				Essentials of a marketing plan\n				Segmentation and target markets\n				Setting achievable marketing objectives\n				Business positioning and branding\n				Promotional Strategies (digital and traditional marketing)\n				Internet and social media marketing\n				Measuring your marketing efforts success
X-ALT-DESC;FMTTYPE=text/html:<table align="left" cellpadding="0" cellspacing="0" hspace="0" vspace="0">\n	<tbody>\n		<tr>\n			<td align="left" style="padding: 0in 9pt\; vertical-align: top\;"><span style="font-family: source sans pro\,sans-serif\;">Marketing is a topic many entrepreneurs ponder as they begin shaping their business ideas.&nbsp\; </span>&nbsp\;Marketing is a solution-driven process that benefits both the customer and the business owner. While advertising is important\, it is only a single component to the entire marketing process. A marketing plan is the blueprint of strategies to help you win and retain customers. Considered the heart of your business\, a marketing plan includes detailed information about your business location\, prices of products and services\, promotional methods\, and the product itself.&nbsp\;<br />\n			&nbsp\;<br />\n			<span style="color: black\;"><span style="font-family: source sans pro\,sans-serif\;">Now\, more than ever it&rsquo\;s important for you to know how to distinguish your business from the competition and how to reach your ideal customers.&nbsp\;&nbsp\; This workshop presented by the Women&rsquo\;s Business Center-Rio Grande Valley will help you achieve this by covering the following topics:</span></span><br />\n			&nbsp\;\n			<ul>\n				<li><span style="font-family: source sans pro\,sans-serif\;">Essentials of a marketing plan</span></li>\n				<li><span style="font-family: source sans pro\,sans-serif\;">Segmentation and target markets</span></li>\n				<li><span style="font-family: source sans pro\,sans-serif\;">Setting achievable marketing objectives</span></li>\n				<li><span style="font-family: source sans pro\,sans-serif\;">Business positioning and branding</span></li>\n				<li><span style="font-family: source sans pro\,sans-serif\;">Promotional Strategies (digital and traditional marketing)</span></li>\n				<li><span style="font-family: source sans pro\,sans-serif\;">Internet and social media marketing</span></li>\n				<li><span style="font-family: source sans pro\,sans-serif\;">Measuring your marketing efforts success</span></li>\n			</ul>\n			</td>\n		</tr>\n	</tbody>\n</table>\n\n<div style="clear: both\;">&nbsp\;</div>\n
LOCATION:Business Visitor & Event Center 275 S. Kansas Weslaco\, TX 78596
UID:e.1244.18849
SEQUENCE:3
DTSTAMP:20260419T221544Z
URL:https://business.weslaco.com/events/details/sba-seminar-business-marketing-the-marketing-essentials-your-business-needs-to-succeed-18849
END:VEVENT

END:VCALENDAR
