BEGIN:VCALENDAR
VERSION:2.0
PRODID:-//ChamberMaster//Event Calendar 2.0//EN
METHOD:PUBLISH
X-PUBLISHED-TTL:P3D
REFRESH-INTERVAL:P3D
CALSCALE:GREGORIAN
BEGIN:VEVENT
DTSTART:20160419T190000Z
DTEND:20160419T210000Z
X-MICROSOFT-CDO-ALLDAYEVENT:FALSE
SUMMARY:SBA Seminar- Content Marketing: What to Say and When to Say It
DESCRIPTION:What you say\, and the way you say it (tone\, date & time\, frequency) is how you will attract\, engage and be share worthy to your audiences. This seminar will teach you time-saving tips\, techniques\, and yes\, even apps that will help your content - and the way you share it - succeed!  You'll learn how to create\, curate and and extend the content that will help you achieve your goals.
X-ALT-DESC;FMTTYPE=text/html:What you say\, and the way you say it (tone\, date &amp\; time\, frequency) is how you will attract\, engage and be share worthy to your audiences. This seminar will teach you time-saving tips\, techniques\, and yes\, even apps that will help your content - and the way you share it - succeed! &nbsp\;You&#39\;ll learn how to create\, curate and and extend the content that will help you achieve your goals. &nbsp\;
LOCATION:Donna EDC/City Hall 307 S. 12th Street Donna\, TX 78537
UID:e.1244.10946
SEQUENCE:3
DTSTAMP:20260423T023314Z
URL:https://business.weslaco.com/events/details/sba-seminar-content-marketing-what-to-say-and-when-to-say-it-04-19-2016-10946
END:VEVENT

END:VCALENDAR
