BEGIN:VCALENDAR
VERSION:2.0
PRODID:-//ChamberMaster//Event Calendar 2.0//EN
METHOD:PUBLISH
X-PUBLISHED-TTL:P3D
REFRESH-INTERVAL:P3D
CALSCALE:GREGORIAN
BEGIN:VEVENT
DTSTART:20190523T190000Z
DTEND:20190523T210000Z
X-MICROSOFT-CDO-ALLDAYEVENT:FALSE
SUMMARY:SBA Seminar: OSHA Safety and Health Compliance Assistance
DESCRIPTION:Using a no-cost consultation service largely funded by OSHA\, employers can find out about potential hazards at their worksites\, improve their safety and health programs\, and even qualify for a one-year exemption from routine OSHA inspections. Primarily targeted for smaller businesses\, this safety and health consultation program is completely separate from the OSHA inspection effort. In addition\, no citations are issued or penalties proposed.\n\nThe Occupational Safety Consultation (OSHCON) program is a free and confidential service available to private sector Texas employers through the Texas Department of Insurance\, Division of Workers' Compensation. OSHCON's professional safety and health consultants\, across the state\, are available to help employers understand OSHA rules and identify and eliminate occupation hazards in their workplace.\n\nDiscover and Learn:\n\n \n\n	OSHA and employer obligations\n	Who needs to comply with OSHA standard?\n	OSHA hot topics and compliance resources\n	OSHCON free and confidential OSHA safety and health compliance assistance\n	Additional safety and health resources\n\nFor more information contact Veronica Z. Ortega at (956) 427-8533\, x233 or email to: veronica.ortega@sba.gov\n\nThe Informational Workshops have been organized by the SBA for the community. The SBA's participation is not an endorsement of any opinion\, product or service of the organizations in attendance.\n\nSBA programs and services are provided on a nondiscriminatory basis. Reasonable arrangements for persons with disabilities will be made\, if requested at least two weeks in advance.
X-ALT-DESC;FMTTYPE=text/html:Using a no-cost consultation service largely funded by OSHA\, employers can find out about potential hazards at their worksites\, improve their safety and health programs\, and even qualify for a one-year exemption from routine OSHA inspections. Primarily targeted for smaller businesses\, this safety and health consultation program is completely separate from the OSHA inspection effort. In addition\, no citations are issued or penalties proposed.<br />\nThe Occupational Safety Consultation (OSHCON) program is a free and confidential service available to private sector Texas employers through the Texas Department of Insurance\, Division of Workers&rsquo\; Compensation. OSHCON&rsquo\;s professional safety and health consultants\, across the state\, are available to help employers understand OSHA rules and identify and eliminate occupation hazards in their workplace.<br />\n<span style="font-weight:700\;padding-top:0px\;">Discover and Learn:</span><br />\n&nbsp\;\n<ul>\n	<li style="padding:0px\;">OSHA and employer obligations</li>\n	<li style="padding:5px 0px 0px\;">Who needs to comply with OSHA standard?</li>\n	<li style="padding:5px 0px 0px\;">OSHA hot topics and compliance resources</li>\n	<li style="padding:5px 0px 0px\;">OSHCON free and confidential OSHA safety and health compliance assistance</li>\n	<li style="padding:5px 0px 0px\;">Additional safety and health resources</li>\n</ul>\n<span style="padding-top:0px\;">For more information contact Veronica Z. Ortega at (956) 427-8533\, x233 or email to:&nbsp\;</span><a href="mailto:veronica.ortega@sba.gov" rel="nofollow noopener noreferrer" style="color:var(--eds-control\,#3659e3)\;text-decoration-line:none\;cursor:pointer\;" target="_blank">veronica.ortega@sba.gov</a><br />\n<span style="padding-top:0px\;">The Informational Workshops have been organized by the SBA for the community. The SBA&rsquo\;s participation is not an endorsement of any opinion\, product or service of the organizations in attendance.</span><br />\n<span style="padding-top:0px\;">SBA programs and services are provided on a nondiscriminatory basis. Reasonable arrangements for persons with disabilities will be made\, if requested at least two weeks in advance.</span>
LOCATION:Business Visitor & Event Center 275 S. Kansas Weslaco\, TX
UID:e.1244.18172
SEQUENCE:3
DTSTAMP:20260420T114004Z
URL:https://business.weslaco.com/events/details/sba-seminar-osha-safety-and-health-compliance-assistance-18172
END:VEVENT

END:VCALENDAR
