BEGIN:VCALENDAR
VERSION:2.0
PRODID:-//ChamberMaster//Event Calendar 2.0//EN
METHOD:PUBLISH
X-PUBLISHED-TTL:P3D
REFRESH-INTERVAL:P3D
CALSCALE:GREGORIAN
BEGIN:VEVENT
DTSTART:20180718T143000Z
DTEND:20180718T203000Z
X-MICROSOFT-CDO-ALLDAYEVENT:FALSE
SUMMARY:SBA Seminar: Understanding Unlawful Employment and Compliance Matters
DESCRIPTION:Understanding Unlawful Employment and Compliance Matters\n\n\n\nOn occasion workers secure jobs through fraudulent means such as presenting false documents\, completing fraudulent benefit applications and/or unlawfully obtaining someone's identity.\n\nAs an employer\, if you are interested in better understanding unlawful employment and reducing compliance vulnerabilities then this training is for you
X-ALT-DESC;FMTTYPE=text/html:<p>Understanding Unlawful Employment and Compliance Matters<br />\n<br />\nOn occasion workers secure jobs through fraudulent means such as presenting false documents\, completing fraudulent benefit applications and/or unlawfully obtaining someone&#39\;s identity.<br />\nAs an employer\, if you are interested in better understanding unlawful employment and reducing compliance vulnerabilities then this training is for you</p>\n
LOCATION:Weslaco Chamber Board Room 275 S. Kansas
UID:e.1244.16922
SEQUENCE:3
DTSTAMP:20260421T044112Z
URL:https://business.weslaco.com/events/details/sba-seminar-understanding-unlawful-employment-and-compliance-matters-16922
END:VEVENT

END:VCALENDAR
