BEGIN:VCALENDAR
VERSION:2.0
PRODID:-//ChamberMaster//Event Calendar 2.0//EN
METHOD:PUBLISH
X-PUBLISHED-TTL:P3D
REFRESH-INTERVAL:P3D
CALSCALE:GREGORIAN
BEGIN:VEVENT
DTSTART:20140521T140000Z
DTEND:20140521T210000Z
X-MICROSOFT-CDO-ALLDAYEVENT:FALSE
SUMMARY:Seminar on Neuromuscular Electrical Stimulation
DESCRIPTION:Presentation and demonstration on Neuromuscular Electrical Stimulation and its roll in Dysphagia Rehabilitation.  Presented by Ruben Nava\, PTA-RPM and Ana Vallejo\, MS\, CCC-SLP.  Hosted by Sava Senior Care - Retama Manor Nursing Weslaco
X-ALT-DESC;FMTTYPE=text/html:<span style="font-size:11px\;"><span style="font-family:tahoma\;"><strong>Presentation and demonstration on Neuromuscular Electrical Stimulation and its roll in Dysphagia&nbsp\;Rehabilitation. &nbsp\;Presented by Ruben Nava\, PTA-RPM and Ana Vallejo\, MS\, CCC-SLP. &nbsp\;Hosted by Sava Senior Care - Retama Manor Nursing Weslaco</strong></span></span><br />\n&nbsp\;
LOCATION:Knapp Medical Conference Center\, Room 9
UID:e.1244.5901
SEQUENCE:3
DTSTAMP:20260424T140511Z
URL:https://business.weslaco.com/events/details/seminar-on-neuromuscular-electrical-stimulation-05-21-2014-5901
END:VEVENT

END:VCALENDAR
