BEGIN:VCALENDAR
VERSION:2.0
PRODID:-//ChamberMaster//Event Calendar 2.0//EN
METHOD:PUBLISH
X-PUBLISHED-TTL:P3D
REFRESH-INTERVAL:P3D
CALSCALE:GREGORIAN
BEGIN:VEVENT
DTSTART:20160210T173000Z
DTEND:20160210T190000Z
X-MICROSOFT-CDO-ALLDAYEVENT:FALSE
SUMMARY:Seminar: Script Your Family's Future: Why You Need an Estate Plan
DESCRIPTION:Script your Family's Future: Why You Need an Estate Plan\n\n \n\nThis seminar is designed to help individuals understand the important\n\nrole a well-executed estate plan can play in ensuring their strategy\n\nremains aligned with their goals. Presented by James Enriquez\, Edward Jones Investments and Gene Vaughan\, Jones\, Galligan\, Key & Lozano\, LLP.
X-ALT-DESC;FMTTYPE=text/html:Script your Family&#39\;s Future: Why You Need an Estate Plan<br />\n&nbsp\;<br />\nThis seminar is designed to help individuals understand the important<br />\nrole a well-executed estate plan can play in ensuring their strategy<br />\nremains aligned with their goals. Presented by James Enriquez\, Edward Jones Investments and Gene Vaughan\, Jones\, Galligan\, Key &amp\; Lozano\, LLP.
LOCATION:Weslaco Business Visitor & Event Center 275 S. Kansas
UID:e.1244.9104
SEQUENCE:3
DTSTAMP:20260423T040546Z
URL:https://business.weslaco.com/events/details/seminar-script-your-family-s-future-why-you-need-an-estate-plan-02-10-2016-9104
END:VEVENT

END:VCALENDAR
