BEGIN:VCALENDAR
VERSION:2.0
PRODID:-//ChamberMaster//Event Calendar 2.0//EN
METHOD:PUBLISH
X-PUBLISHED-TTL:P3D
REFRESH-INTERVAL:P3D
CALSCALE:GREGORIAN
BEGIN:VEVENT
DTSTART:20200308T173000Z
DTEND:20200308T213000Z
X-MICROSOFT-CDO-ALLDAYEVENT:FALSE
SUMMARY:She Slays Sunday
DESCRIPTION:Chamber member The Makeup Studio by Trinidad is hosting She Slays Sunday\, this Sun\, Mar. 8\, International Women's Day! Support woman empowerment by shopping female owned businesses. 12:30 pm-4:30 pm\, 202 N. Kansas.
X-ALT-DESC;FMTTYPE=text/html:<span style="color: rgb(28\, 30\, 33)\; font-family: Helvetica\, Arial\, sans-serif\; font-size: 14px\;">Chamber member&nbsp\;</span><a data-hovercard="/ajax/hovercard/page.php?id=303528213894607&amp\;extragetparams=%7B%22__tn__%22%3A%22%2CdK%2AF-R%22%2C%22eid%22%3A%22ARBFBkDC9zrS3IJef-p0hGx5yYbkCvs2eB-j2FE94D-SaEwM63s7_s4DqkgFS9BKSlbAQ8uJwOgkm648%22%2C%22directed_target_id%22%3Anull%2C%22groups_location%22%3Anull%7D&amp\;av=74523188033&amp\;eav=AfadolFgGYRDd5i2VeL_-SQkNqMNWZlb65gXl3ZnPbS0S0rrMDEnQ0_J-nD2naoaHT0" data-hovercard-prefer-more-content-show="1" href="https://www.facebook.com/ThemakeupStudiobyTrinidad/?__tn__=%2CdK%2AF-R&amp\;eid=ARBFBkDC9zrS3IJef-p0hGx5yYbkCvs2eB-j2FE94D-SaEwM63s7_s4DqkgFS9BKSlbAQ8uJwOgkm648" style="color: rgb(56\, 88\, 152)\; cursor: pointer\; text-decoration-line: none\; font-family: Helvetica\, Arial\, sans-serif\; font-size: 14px\;">The Makeup Studio by Trinidad</a><span style="color: rgb(28\, 30\, 33)\; font-family: Helvetica\, Arial\, sans-serif\; font-size: 14px\;">&nbsp\;is hosting She Slays Sunday\, this Sun\, Mar. 8\, International Women&#39\;s Day! Support woman empowerment by shopping female owned businesses. 12:30 pm-4:30 pm\, 202 N. Kansas.</span>
LOCATION:The Makeup Studio by Trinidad 202 N. Kansas Weslaco
UID:e.1244.19338
SEQUENCE:3
DTSTAMP:20260419T200951Z
URL:https://business.weslaco.com/events/details/she-slays-sunday-19338
END:VEVENT

END:VCALENDAR
