BEGIN:VCALENDAR
VERSION:2.0
PRODID:-//ChamberMaster//Event Calendar 2.0//EN
METHOD:PUBLISH
X-PUBLISHED-TTL:P3D
REFRESH-INTERVAL:P3D
CALSCALE:GREGORIAN
BEGIN:VEVENT
DTSTART:20161029T230000Z
DTEND:20161030T010000Z
X-MICROSOFT-CDO-ALLDAYEVENT:FALSE
SUMMARY:Sip & Dip at Frontera Audubon
DESCRIPTION:Sip & Dip Painting will be hosting a fall PAINTING PARTY at Frontera Audubon. Complete a painting with our instructor while you enjoy complimentary wine. Right before HALLOWEEN so we will be having a costume contest\, and door prizes. \n\n\n\nBuy a seat at our website or text....\n\n956-373-5923\n\nTickets here....\n\nhttp://www.art66studio.com/
X-ALT-DESC;FMTTYPE=text/html:<span data-mce-style="color: #4b4f56\; font-family: helvetica\, arial\, sans-serif\; font-size: 14px\;" style="color: rgb(75\, 79\, 86)\; font-family: helvetica\, arial\, sans-serif\; font-size: 14px\;">Sip &amp\; Dip Painting will be hosting a fall PAINTING PARTY at Frontera Audubon. Complete a painting with our instructor while you enjoy complimentary wine. Right before HALLOWEEN so we will be having a costume contest\, and door prizes.&nbsp\;</span><br data-mce-style="color: #4b4f56\; font-family: helvetica\, arial\, sans-serif\; font-size: 14px\;" style="color: rgb(75\, 79\, 86)\; font-family: helvetica\, arial\, sans-serif\; font-size: 14px\;" />\n<br data-mce-style="color: #4b4f56\; font-family: helvetica\, arial\, sans-serif\; font-size: 14px\;" style="color: rgb(75\, 79\, 86)\; font-family: helvetica\, arial\, sans-serif\; font-size: 14px\;" />\n<span data-mce-style="color: #4b4f56\; font-family: helvetica\, arial\, sans-serif\; font-size: 14px\;" style="color: rgb(75\, 79\, 86)\; font-family: helvetica\, arial\, sans-serif\; font-size: 14px\;">Buy a seat at our website or text....</span><br data-mce-style="color: #4b4f56\; font-family: helvetica\, arial\, sans-serif\; font-size: 14px\;" style="color: rgb(75\, 79\, 86)\; font-family: helvetica\, arial\, sans-serif\; font-size: 14px\;" />\n<span data-mce-style="color: #4b4f56\; font-family: helvetica\, arial\, sans-serif\; font-size: 14px\;" style="color: rgb(75\, 79\, 86)\; font-family: helvetica\, arial\, sans-serif\; font-size: 14px\;">956-373-5923</span><br data-mce-style="color: #4b4f56\; font-family: helvetica\, arial\, sans-serif\; font-size: 14px\;" style="color: rgb(75\, 79\, 86)\; font-family: helvetica\, arial\, sans-serif\; font-size: 14px\;" />\n<span data-mce-style="color: #4b4f56\; font-family: helvetica\, arial\, sans-serif\; font-size: 14px\;" style="color: rgb(75\, 79\, 86)\; font-family: helvetica\, arial\, sans-serif\; font-size: 14px\;">Tickets here....</span><br data-mce-style="color: #4b4f56\; font-family: helvetica\, arial\, sans-serif\; font-size: 14px\;" style="color: rgb(75\, 79\, 86)\; font-family: helvetica\, arial\, sans-serif\; font-size: 14px\;" />\n<a data-mce-href="http://www.art66studio.com/" data-mce-style="color: #365899\; cursor: pointer\; text-decoration: none\; font-family: helvetica\, arial\, sans-serif\; font-size: 14px\;" href="http://www.art66studio.com/" rel="nofollow nofollow" style="color: rgb(54\, 88\, 153)\; cursor: pointer\; text-decoration: none\; font-family: helvetica\, arial\, sans-serif\; font-size: 14px\;" target="_blank">http://www.art66studio.com/</a><span style="color: rgb(46\, 46\, 32)\; font-family: Arial\, Verdana\, Helvetica\, sans-serif\; font-size: 12px\;">&nbsp\;</span>
LOCATION:Frontera Audubon 1101 S. Texas Weslaco\, TX
UID:e.1244.11052
SEQUENCE:3
DTSTAMP:20260422T151042Z
URL:https://business.weslaco.com/events/details/sip-dip-at-frontera-audubon-11052
END:VEVENT

END:VCALENDAR
