BEGIN:VCALENDAR
VERSION:2.0
PRODID:-//ChamberMaster//Event Calendar 2.0//EN
METHOD:PUBLISH
X-PUBLISHED-TTL:P3D
REFRESH-INTERVAL:P3D
CALSCALE:GREGORIAN
BEGIN:VEVENT
DTSTART:20180928T133000Z
DTEND:20180928T183000Z
X-MICROSOFT-CDO-ALLDAYEVENT:FALSE
SUMMARY:Sixth Annual Binational INNOvation Conference 2018
DESCRIPTION:New innovations\, new opportunities - Preparing our workforce for jobs of the future
X-ALT-DESC;FMTTYPE=text/html:New innovations\, new opportunities - Preparing our workforce for jobs of the future
LOCATION:South Texas College Pecan Campus Building U 3201 Pecan Blvd. McAllen\, TX
UID:e.1244.16962
SEQUENCE:3
DTSTAMP:20260421T023232Z
URL:https://business.weslaco.com/events/details/sixth-annual-binational-innovation-conference-2018-16962
END:VEVENT

END:VCALENDAR
