BEGIN:VCALENDAR
VERSION:2.0
PRODID:-//ChamberMaster//Event Calendar 2.0//EN
METHOD:PUBLISH
X-PUBLISHED-TTL:P3D
REFRESH-INTERVAL:P3D
CALSCALE:GREGORIAN
BEGIN:VEVENT
DTSTART:20151210T230000Z
DTEND:20151211T010000Z
X-MICROSOFT-CDO-ALLDAYEVENT:FALSE
SUMMARY:Sky I.T. Ribbon Cutting and Grand Opening
DESCRIPTION:Come celebrate Sky IT Solution's grand opening ceremony at the new location! Stick around for a holiday party with food and refreshments!
X-ALT-DESC;FMTTYPE=text/html:Come celebrate Sky IT Solution&#39\;s grand opening ceremony at the new location! Stick around for a holiday party with food and refreshments!&nbsp\;&nbsp\;&nbsp\;&nbsp\;
LOCATION:705 S. Texas Weslaco\, TX
UID:e.1244.9070
SEQUENCE:3
DTSTAMP:20260423T071203Z
URL:https://business.weslaco.com/events/details/sky-i-t-ribbon-cutting-and-grand-opening-12-10-2015-9070
END:VEVENT

END:VCALENDAR
