BEGIN:VCALENDAR
VERSION:2.0
PRODID:-//ChamberMaster//Event Calendar 2.0//EN
METHOD:PUBLISH
X-PUBLISHED-TTL:P3D
REFRESH-INTERVAL:P3D
CALSCALE:GREGORIAN
BEGIN:VEVENT
DTSTART:20160120T150000Z
DTEND:20160120T180000Z
X-MICROSOFT-CDO-ALLDAYEVENT:FALSE
SUMMARY:Small Business Seminar - "Listening to your Business"
DESCRIPTION:The UTRGV Small Business Development Center presents "Listening to your Business"\, a FREE workshop that will help you learn how to:\n\n	Analyze your current business performance\n	Identify opportunities and available resources\n	Prioritize and formalize transition steps\n	Determine an appropriate plan of action\n\nBrought to you by Weslaco EDC\, Hidalgo County Scale Up and TMAC.
X-ALT-DESC;FMTTYPE=text/html:The UTRGV&nbsp\;Small Business Development Center presents &quot\;Listening to your Business&quot\;\, a FREE workshop that will help you learn how to:\n<ul>\n	<li>Analyze your current business performance</li>\n	<li>Identify opportunities and available resources</li>\n	<li>Prioritize and formalize transition steps</li>\n	<li>Determine an appropriate plan of action</li>\n</ul>\nBrought to you by Weslaco EDC\, Hidalgo County Scale Up and TMAC.
LOCATION:Weslaco Business Visitor & Event Center 275 S. Kansas\, Weslaco\, TX
UID:e.1244.9101
SEQUENCE:3
DTSTAMP:20260423T071531Z
URL:https://business.weslaco.com/events/details/small-business-seminar-listening-to-your-business-01-20-2016-9101
END:VEVENT

END:VCALENDAR
