BEGIN:VCALENDAR
VERSION:2.0
PRODID:-//ChamberMaster//Event Calendar 2.0//EN
METHOD:PUBLISH
X-PUBLISHED-TTL:P3D
REFRESH-INTERVAL:P3D
CALSCALE:GREGORIAN
BEGIN:VEVENT
DTSTART:20191022T190000Z
DTEND:20191022T200000Z
X-MICROSOFT-CDO-ALLDAYEVENT:FALSE
SUMMARY:Smile Magic Family Dental Ribbon Cutting
DESCRIPTION:
X-ALT-DESC;FMTTYPE=text/html:
LOCATION:802 N. Texas Weslaco\, TX
UID:e.1244.18787
SEQUENCE:3
DTSTAMP:20260420T030825Z
URL:https://business.weslaco.com/events/details/smile-magic-family-dental-ribbon-cutting-18787
END:VEVENT

END:VCALENDAR
