BEGIN:VCALENDAR
VERSION:2.0
PRODID:-//ChamberMaster//Event Calendar 2.0//EN
METHOD:PUBLISH
X-PUBLISHED-TTL:P3D
REFRESH-INTERVAL:P3D
CALSCALE:GREGORIAN
BEGIN:VEVENT
DTSTART:20160122T210000Z
DTEND:20160122T230000Z
X-MICROSOFT-CDO-ALLDAYEVENT:FALSE
SUMMARY:Social Media Seminar
DESCRIPTION:"Social Media 201: You're Social - Now What? Making Social Media Work for Your Business" - Presented by the U.S.Small Business Administration\n\nThis presentation is a guide for small businesses or nonprofits who have been using social media marketing\, but need some tips to take them to an intermediate level and/or add new channels to their marketing efforts.  This seminar will give you a closer look at the popular social media networks - Facebook\, Twitter\, LinkedIn\, Pinterest and Google+.  Intended audience is the beginner-to comfortable small-business marketer who is looking to build their marketing knowledge\, or to reinforce what it is they already know.
X-ALT-DESC;FMTTYPE=text/html:<p><strong>&quot\;Social Media 201: You&#39\;re Social - Now What? Making Social Media Work for Your Business&quot\; - Presented by the U.S.Small Business Administration</strong><br />\nThis presentation is a guide for small businesses or nonprofits who have been using social media marketing\, but need some tips to take them to an intermediate level and/or add new channels to their marketing efforts. &nbsp\;This seminar will give you a closer look at the popular social media networks - Facebook\, Twitter\, LinkedIn\, Pinterest and Google+. &nbsp\;Intended audience is the beginner-to comfortable small-business marketer who is looking to build their marketing knowledge\, or to reinforce what it is they already know.</p>\n
LOCATION:Business Visitor and Event Center 275 S. Kansas
UID:e.1244.9102
SEQUENCE:3
DTSTAMP:20260423T053508Z
URL:https://business.weslaco.com/events/details/social-media-seminar-01-22-2016-9102
END:VEVENT

END:VCALENDAR
