BEGIN:VCALENDAR
VERSION:2.0
PRODID:-//ChamberMaster//Event Calendar 2.0//EN
METHOD:PUBLISH
X-PUBLISHED-TTL:P3D
REFRESH-INTERVAL:P3D
CALSCALE:GREGORIAN
BEGIN:VEVENT
DTSTART:20140528T163000Z
DTEND:20140528T180000Z
X-MICROSOFT-CDO-ALLDAYEVENT:FALSE
SUMMARY:Social Media Seminar presented by ImageHouse Media
DESCRIPTION:"How to Boost Your Business with Social Media" presented by ImageHouse Media.  $20 for members\, $35 for non-members. RSVP only\, limited space available.
X-ALT-DESC;FMTTYPE=text/html:&quot\;How to Boost Your Business with Social Media&quot\; presented by ImageHouse Media.&nbsp\; $20 for members\, $35 for non-members. RSVP only\, limited space available.
LOCATION:Weslaco Business Visitor Event Center 275 S. Kansas
UID:e.1244.5902
SEQUENCE:3
DTSTAMP:20260424T155817Z
URL:https://business.weslaco.com/events/details/social-media-seminar-presented-by-imagehouse-media-05-28-2014-5902
END:VEVENT

END:VCALENDAR
