BEGIN:VCALENDAR
VERSION:2.0
PRODID:-//ChamberMaster//Event Calendar 2.0//EN
METHOD:PUBLISH
X-PUBLISHED-TTL:P3D
REFRESH-INTERVAL:P3D
CALSCALE:GREGORIAN
BEGIN:VEVENT
DTSTART;VALUE=DATE:20190603
DTEND;VALUE=DATE:20190727
TRANSP:TRANSPARENT
X-MICROSOFT-CDO-ALLDAYEVENT:TRUE
SUMMARY:South Texas College 2019 Kids Summer Camps
DESCRIPTION:South Texas College is offering kids summer camps including Aviation\, Sewing\, Cyberpatriot\, Introduction to Game Development\, Introduction to Mobile App Development\, and Advanced Mobile App Development. Please click on our link for date and time information for each program.
X-ALT-DESC;FMTTYPE=text/html:South Texas College is offering kids summer camps including Aviation\, Sewing\, Cyberpatriot\, Introduction to Game Development\, Introduction to Mobile App Development\, and Advanced Mobile App Development. Please click on our link for date and time information for each program.&nbsp\;
LOCATION:Various South Texas College Campuses in McAllen
UID:e.1244.18184
SEQUENCE:3
DTSTAMP:20260420T094544Z
URL:https://business.weslaco.com/events/details/south-texas-college-2019-kids-summer-camps-18184
END:VEVENT

END:VCALENDAR
