BEGIN:VCALENDAR
VERSION:2.0
PRODID:-//ChamberMaster//Event Calendar 2.0//EN
METHOD:PUBLISH
X-PUBLISHED-TTL:P3D
REFRESH-INTERVAL:P3D
CALSCALE:GREGORIAN
BEGIN:VEVENT
DTSTART:20220430T140000Z
DTEND:20220430T180000Z
X-MICROSOFT-CDO-ALLDAYEVENT:FALSE
SUMMARY:South Texas College - 2022 Adjunct Faculty Job Fair
DESCRIPTION:South Texas College will be hosting the 2022 Adjunct Faculty Job Fair on Saturday April 30th\, 2022. South Texas College has part-time instructor opportunities in many subject areas\, and encourage everyone interested to join us. Please bring a completed application\, including resumes\, letter of intent\, and copies of academic transcripts. Application are available on our website at https://careers.southtexascollege.edu under the Part-Time Faculty tab.
X-ALT-DESC;FMTTYPE=text/html:South Texas College will be hosting the 2022 Adjunct Faculty Job Fair on Saturday April 30th\, 2022. South Texas College has part-time instructor opportunities in many subject areas\, and encourage everyone interested to join us. Please bring a completed application\, including resumes\, letter of intent\, and copies of academic transcripts. Application are available on our website at https://careers.southtexascollege.edu under the Part-Time Faculty tab. 
LOCATION:South Texas College ? Pecan Campus\, Cooper Center 3200 W. Pecan Blvd.\, McAllen\, Texas 78501
UID:e.1244.20659
SEQUENCE:3
DTSTAMP:20260421T171844Z
URL:https://business.weslaco.com/events/details/south-texas-college-2022-adjunct-faculty-job-fair-20659
END:VEVENT

END:VCALENDAR
