BEGIN:VCALENDAR
VERSION:2.0
PRODID:-//ChamberMaster//Event Calendar 2.0//EN
METHOD:PUBLISH
X-PUBLISHED-TTL:P3D
REFRESH-INTERVAL:P3D
CALSCALE:GREGORIAN
BEGIN:VEVENT
DTSTART:20140422T150000Z
DTEND:20140422T160000Z
X-MICROSOFT-CDO-ALLDAYEVENT:FALSE
SUMMARY:South Texas ER at Weslaco Ground Breaking
DESCRIPTION:Groundbreaking ceremony for the new South Texas ER at Weslaco.
X-ALT-DESC;FMTTYPE=text/html:Groundbreaking ceremony for the new South Texas ER at Weslaco.&nbsp\;&nbsp\;&nbsp\;&nbsp\;
LOCATION:400 W. Expressway 83 Weslaco
UID:e.1244.5891
SEQUENCE:3
DTSTAMP:20260424T161822Z
URL:https://business.weslaco.com/events/details/south-texas-er-at-weslaco-ground-breaking-04-22-2014-5891
END:VEVENT

END:VCALENDAR
