BEGIN:VCALENDAR
VERSION:2.0
PRODID:-//ChamberMaster//Event Calendar 2.0//EN
METHOD:PUBLISH
X-PUBLISHED-TTL:P3D
REFRESH-INTERVAL:P3D
CALSCALE:GREGORIAN
BEGIN:VEVENT
DTSTART:20150826T150000Z
DTEND:20150826T200000Z
X-MICROSOFT-CDO-ALLDAYEVENT:FALSE
SUMMARY:South Texas Vo-Tech Career Fair
DESCRIPTION:"Take the Next Step" Career Fair will be composed of both programmatic employers\, local retailers and business that will provide both part-time and full-time job opportunities for both our current students and alumni.  There will be on-site interviews\, food and drinks.
X-ALT-DESC;FMTTYPE=text/html:&quot\;Take the Next Step&quot\; Career Fair will be composed of both programmatic employers\, local retailers and business that will provide both part-time and full-time job opportunities for both our current students and alumni. &nbsp\;There will be on-site interviews\, food and drinks. &nbsp\;
LOCATION:STVT Weslaco 2419 E. Haggar Ave. Weslaco\, TX
UID:e.1244.6727
SEQUENCE:3
DTSTAMP:20260423T131419Z
URL:https://business.weslaco.com/events/details/south-texas-vo-tech-career-fair-08-26-2015-6727
END:VEVENT

END:VCALENDAR
