BEGIN:VCALENDAR
VERSION:2.0
PRODID:-//ChamberMaster//Event Calendar 2.0//EN
METHOD:PUBLISH
X-PUBLISHED-TTL:P3D
REFRESH-INTERVAL:P3D
CALSCALE:GREGORIAN
BEGIN:VEVENT
DTSTART:20131005T150000Z
DTEND:20131005T170000Z
X-MICROSOFT-CDO-ALLDAYEVENT:FALSE
SUMMARY:Special Presentation at the Valley Nature Center
DESCRIPTION:Don't get yourself in a heap of trouble.....come to a special presentation by Mike Heep on October 5\, 2013 at 10:00 a.m. and learn everything you need to know about choosing the correct native plants.
X-ALT-DESC;FMTTYPE=text/html:Don&#39\;t get yourself in a heap of trouble.....come to a special presentation by Mike Heep on October 5\, 2013 at 10:00 a.m. and learn everything you need to know about choosing the correct native plants.
LOCATION:301 South Border Ave
UID:e.1244.4775
SEQUENCE:3
DTSTAMP:20260425T041545Z
URL:https://business.weslaco.com/events/details/special-presentation-at-the-valley-nature-center-10-05-2013-4775
END:VEVENT

END:VCALENDAR
