BEGIN:VCALENDAR
VERSION:2.0
PRODID:-//ChamberMaster//Event Calendar 2.0//EN
METHOD:PUBLISH
X-PUBLISHED-TTL:P3D
REFRESH-INTERVAL:P3D
CALSCALE:GREGORIAN
BEGIN:VEVENT
DTSTART:20131012T150000Z
DTEND:20131012T170000Z
X-MICROSOFT-CDO-ALLDAYEVENT:FALSE
SUMMARY:Special Presentation at the Valley Nature Center
DESCRIPTION:Dr. Pamela Gregory will be giving a special presentation on Bees on October 12\, 2013 at 10:00 a.m.\n\n301 South Border Ave\n\nWeslaco\, TX 78596
X-ALT-DESC;FMTTYPE=text/html:Dr. Pamela Gregory will be giving a special presentation on Bees on October 12\, 2013 at 10:00 a.m.<br />\n301 South Border Ave<br />\nWeslaco\, TX 78596
LOCATION:301 South Border Ave
UID:e.1244.4777
SEQUENCE:3
DTSTAMP:20260425T023545Z
URL:https://business.weslaco.com/events/details/special-presentation-at-the-valley-nature-center-10-12-2013-4777
END:VEVENT

END:VCALENDAR
