BEGIN:VCALENDAR
VERSION:2.0
PRODID:-//ChamberMaster//Event Calendar 2.0//EN
METHOD:PUBLISH
X-PUBLISHED-TTL:P3D
REFRESH-INTERVAL:P3D
CALSCALE:GREGORIAN
BEGIN:VEVENT
DTSTART:20131026T150000Z
DTEND:20131026T170000Z
X-MICROSOFT-CDO-ALLDAYEVENT:FALSE
SUMMARY:Special Presentation at the Valley Nature Center - Reforestation of Urban Parks
DESCRIPTION:Come to the Valley Nature Center to enjoy a presentation by Tim Brush on the Reforestation of Urban parks on October 26\, 2013 at 10:00 a.m.\n\n\n\nValley Nature Center\n\n301 South Border Ave\n\nWeslaco\, TX 78596
X-ALT-DESC;FMTTYPE=text/html:Come to the Valley Nature Center to enjoy a presentation by Tim Brush on the Reforestation of Urban parks on October 26\, 2013 at 10:00 a.m.<br />\n<br />\nValley Nature Center<br />\n301 South Border Ave<br />\nWeslaco\, TX 78596
LOCATION:301 South Border Ave
UID:e.1244.4778
SEQUENCE:3
DTSTAMP:20260425T025006Z
URL:https://business.weslaco.com/events/details/special-presentation-at-the-valley-nature-center-reforestation-of-urban-parks-10-26-2013-4778
END:VEVENT

END:VCALENDAR
