BEGIN:VCALENDAR
VERSION:2.0
PRODID:-//ChamberMaster//Event Calendar 2.0//EN
METHOD:PUBLISH
X-PUBLISHED-TTL:P3D
REFRESH-INTERVAL:P3D
CALSCALE:GREGORIAN
BEGIN:VEVENT
DTSTART:20191106T173000Z
DTEND:20191106T190000Z
X-MICROSOFT-CDO-ALLDAYEVENT:FALSE
SUMMARY:Speed Network Lunch November 2019
DESCRIPTION:Sponsored by South Texas Federal Credit Union. Make new connections as you move around the room in a timed format! Don't forget the business cards! Call 968-2102 to RSVP.
X-ALT-DESC;FMTTYPE=text/html:Sponsored by South Texas Federal Credit Union. Make new connections as you move around the room in a timed format! Don&#39\;t forget the business cards! Call 968-2102 to RSVP.
LOCATION:Business Visitor and Event Center 275 S. Kansas
UID:e.1244.18810
SEQUENCE:3
DTSTAMP:20260420T011750Z
URL:https://business.weslaco.com/events/details/speed-network-lunch-november-2019-18810
END:VEVENT

END:VCALENDAR
