BEGIN:VCALENDAR
VERSION:2.0
PRODID:-//ChamberMaster//Event Calendar 2.0//EN
METHOD:PUBLISH
X-PUBLISHED-TTL:P3D
REFRESH-INTERVAL:P3D
CALSCALE:GREGORIAN
BEGIN:VEVENT
DTSTART:20130605T163000Z
DTEND:20130605T180000Z
X-MICROSOFT-CDO-ALLDAYEVENT:FALSE
SUMMARY:Speed Networking Luncheon
DESCRIPTION:Bring plenty of business cards and get ready to make plenty of new contacts as you move from table to table. Door prizes available!
X-ALT-DESC;FMTTYPE=text/html:Bring plenty of business cards and get ready to make plenty of new contacts as you move from table to table.&nbsp\;Door prizes available!
LOCATION:Weslaco Business Visitor & Event Center 275 S. Kansas
UID:e.1244.4687
SEQUENCE:3
DTSTAMP:20260422T192315Z
URL:https://business.weslaco.com/events/details/speed-networking-luncheon-06-05-2013-4687
END:VEVENT

END:VCALENDAR
