BEGIN:VCALENDAR
VERSION:2.0
PRODID:-//ChamberMaster//Event Calendar 2.0//EN
METHOD:PUBLISH
X-PUBLISHED-TTL:P3D
REFRESH-INTERVAL:P3D
CALSCALE:GREGORIAN
BEGIN:VEVENT
DTSTART:20141008T163000Z
DTEND:20141008T180000Z
X-MICROSOFT-CDO-ALLDAYEVENT:FALSE
SUMMARY:Speed Networking Luncheon
DESCRIPTION:Bring plenty of business cards and get ready to make plenty of new contacts as you move around the room in a timed format.
X-ALT-DESC;FMTTYPE=text/html:Bring plenty of business cards and get ready to make plenty of new contacts as you move around the room in a timed format. &nbsp\;
LOCATION:Weslaco Business Visitor & Event Center 275 S. Kansas
UID:e.1244.5961
SEQUENCE:3
DTSTAMP:20260424T051151Z
URL:https://business.weslaco.com/events/details/speed-networking-luncheon-10-08-2014-5961
END:VEVENT

END:VCALENDAR
