BEGIN:VCALENDAR
VERSION:2.0
PRODID:-//ChamberMaster//Event Calendar 2.0//EN
METHOD:PUBLISH
X-PUBLISHED-TTL:P3D
REFRESH-INTERVAL:P3D
CALSCALE:GREGORIAN
BEGIN:VEVENT
DTSTART:20190904T163000Z
DTEND:20190904T180000Z
X-MICROSOFT-CDO-ALLDAYEVENT:FALSE
SUMMARY:Speed Networking Luncheon September 2019
DESCRIPTION:Make new connections as you move around the room in a timed format! Don't forget the business cards! Call 968-2102 to RSVP.
X-ALT-DESC;FMTTYPE=text/html:Make new connections as you move around the room in a timed format! Don&#39\;t forget the business cards! Call 968-2102 to RSVP.
LOCATION:Business Visitor and Event Center 275 S. Kansas
UID:e.1244.18762
SEQUENCE:3
DTSTAMP:20260420T043928Z
URL:https://business.weslaco.com/events/details/speed-networking-luncheon-september-2019-18762
END:VEVENT

END:VCALENDAR
