BEGIN:VCALENDAR
VERSION:2.0
PRODID:-//ChamberMaster//Event Calendar 2.0//EN
METHOD:PUBLISH
X-PUBLISHED-TTL:P3D
REFRESH-INTERVAL:P3D
CALSCALE:GREGORIAN
BEGIN:VEVENT
DTSTART:20150304T173000Z
DTEND:20150304T190000Z
X-MICROSOFT-CDO-ALLDAYEVENT:FALSE
SUMMARY:Speed Networking Luncheon sponsored by Macedonian Christian Academy
DESCRIPTION:Bring plenty of business cards and get ready to make plenty of new contacts as you move from table to table.  Sponsored by Macedonian Christian Academy.  Door prizes available! Catering by Blimpie Subs.
X-ALT-DESC;FMTTYPE=text/html:Bring plenty of business cards and get ready to make plenty of new contacts as you move from table to table. &nbsp\;Sponsored by Macedonian Christian Academy. &nbsp\;Door prizes available! Catering by Blimpie Subs.
LOCATION:Weslaco Business Visitor & Event Center 275 S. Kansas
UID:e.1244.6054
SEQUENCE:3
DTSTAMP:20260423T211745Z
URL:https://business.weslaco.com/events/details/speed-networking-luncheon-sponsored-by-macedonian-christian-academy-03-04-2015-6054
END:VEVENT

END:VCALENDAR
