BEGIN:VCALENDAR
VERSION:2.0
PRODID:-//ChamberMaster//Event Calendar 2.0//EN
METHOD:PUBLISH
X-PUBLISHED-TTL:P3D
REFRESH-INTERVAL:P3D
CALSCALE:GREGORIAN
BEGIN:VEVENT
DTSTART:20131009T163000Z
DTEND:20131009T180000Z
X-MICROSOFT-CDO-ALLDAYEVENT:FALSE
SUMMARY:Speed Networking Luncheon sponsored by Macedonian Christian Academy
DESCRIPTION:Bring plenty of business cards and get ready to make plenty of new contacts as you move from table to table.  Sponsored by Macedonian Christian Academy.  Door prizes available!
X-ALT-DESC;FMTTYPE=text/html:Bring plenty of business cards and get ready to make plenty of new contacts as you move from table to table. &nbsp\;Sponsored by Macedonian Christian Academy. &nbsp\;Door prizes available!
LOCATION:Weslaco Business Visitor & Event Center 275 S. Kansas
UID:e.1244.4737
SEQUENCE:3
DTSTAMP:20260425T024541Z
URL:https://business.weslaco.com/events/details/speed-networking-luncheon-sponsored-by-macedonian-christian-academy-10-09-2013-4737
END:VEVENT

END:VCALENDAR
