BEGIN:VCALENDAR
VERSION:2.0
PRODID:-//ChamberMaster//Event Calendar 2.0//EN
METHOD:PUBLISH
X-PUBLISHED-TTL:P3D
REFRESH-INTERVAL:P3D
CALSCALE:GREGORIAN
BEGIN:VEVENT
DTSTART:20190403T163000Z
DTEND:20190403T180000Z
X-MICROSOFT-CDO-ALLDAYEVENT:FALSE
SUMMARY:Speed Networking Luncheon sponsored by South Texas Federal Credit Union
DESCRIPTION:Make new connections as you move around the room in a timed format! Don't forget the business cards! Call 968-2102 to RSVP.\n\nSponsored by South Texas Federal Credit Union
X-ALT-DESC;FMTTYPE=text/html:Make new connections as you move around the room in a timed format! Don&#39\;t forget the business cards! Call 968-2102 to RSVP.<br />\nSponsored by South Texas Federal Credit Union
LOCATION:Business Visitor and Event Center 275 S. Kansas
UID:e.1244.18046
SEQUENCE:3
DTSTAMP:20260420T144525Z
URL:https://business.weslaco.com/events/details/speed-networking-luncheon-sponsored-by-south-texas-federal-credit-union-18046
END:VEVENT

END:VCALENDAR
