BEGIN:VCALENDAR
VERSION:2.0
PRODID:-//ChamberMaster//Event Calendar 2.0//EN
METHOD:PUBLISH
X-PUBLISHED-TTL:P3D
REFRESH-INTERVAL:P3D
CALSCALE:GREGORIAN
BEGIN:VEVENT
DTSTART:20150603T163000Z
DTEND:20150603T180000Z
X-MICROSOFT-CDO-ALLDAYEVENT:FALSE
SUMMARY:Speed Networking Luncheon sponsored by WellMed
DESCRIPTION:Speed Networking Lunch sponsored by WellMed Clinics.  Bring plenty of business cards as you move around the room in a timed format. Lunch provided.
X-ALT-DESC;FMTTYPE=text/html:Speed Networking Lunch sponsored by WellMed&nbsp\;Clinics. &nbsp\;Bring plenty of business cards as you move around the room in a timed format. Lunch provided.&nbsp\;
LOCATION:Business Visitor & Event Center 275 S. Kansas
UID:e.1244.6275
SEQUENCE:3
DTSTAMP:20260423T174904Z
URL:https://business.weslaco.com/events/details/speed-networking-luncheon-sponsored-by-wellmed-06-03-2015-6275
END:VEVENT

END:VCALENDAR
