BEGIN:VCALENDAR
VERSION:2.0
PRODID:-//ChamberMaster//Event Calendar 2.0//EN
METHOD:PUBLISH
X-PUBLISHED-TTL:P3D
REFRESH-INTERVAL:P3D
CALSCALE:GREGORIAN
BEGIN:VEVENT
DTSTART:20141018T230000Z
DTEND:20141019T030000Z
X-MICROSOFT-CDO-ALLDAYEVENT:FALSE
SUMMARY:Spooky Science Fest at Estero Llano Grande
DESCRIPTION:Estero Llano Grande State Park presents the 8th Annual Spooky Science Fest - The Estero Games. Come be a tribute for District Estero and compete for knowledge in nature and outdoor skills that will help you become winners like Katniss and Peeta. Enjoy archery\, tracking\, fishing\, live animal identification\, wild edibles\, knot tying\, crafts\, games\, costume contest and more.
X-ALT-DESC;FMTTYPE=text/html:Estero Llano Grande State Park presents the 8th Annual Spooky Science Fest - The Estero Games. Come be a tribute for District Estero and compete for knowledge in nature and outdoor skills that will help you become winners like Katniss and Peeta. Enjoy archery\, tracking\, fishing\, live animal identification\, wild edibles\, knot tying\, crafts\, games\, costume contest and more.&nbsp\;&nbsp\;&nbsp\;&nbsp\;
LOCATION:Estero Llano Grande State Park 3301 S. International Blvd. Weslaco\, TX
UID:e.1244.5970
SEQUENCE:3
DTSTAMP:20260424T051450Z
URL:https://business.weslaco.com/events/details/spooky-science-fest-at-estero-llano-grande-10-18-2014-5970
END:VEVENT

END:VCALENDAR
