BEGIN:VCALENDAR
VERSION:2.0
PRODID:-//ChamberMaster//Event Calendar 2.0//EN
METHOD:PUBLISH
X-PUBLISHED-TTL:P3D
REFRESH-INTERVAL:P3D
CALSCALE:GREGORIAN
BEGIN:VEVENT
DTSTART:20131019T230000Z
DTEND:20131020T030000Z
X-MICROSOFT-CDO-ALLDAYEVENT:FALSE
SUMMARY:Spooky Science Fest at Estero Llano Grande
DESCRIPTION:Estero Llano Grande State Park presents the 7th Annual Spooky Science Fest - Survival: The Zombie Apocalypse. The zombies are eating at the flesh of our outdoor experiences.  Bring your friends and family out to learn outdoor skills and knowledge that will help you survive.  Enjoy archery\, tracking\, fishing\, live animal identification\, wild edibles\, knot tying\, crafts\, games\, zombie hay ride\, costume contest and more.
X-ALT-DESC;FMTTYPE=text/html:Estero Llano Grande State Park presents the 7th Annual Spooky Science Fest - Survival: The Zombie Apocalypse. The zombies are eating at the flesh of our outdoor experiences. &nbsp\;Bring your friends and family out to learn outdoor skills and knowledge that will help you survive. &nbsp\;Enjoy archery\, tracking\, fishing\, live animal identification\, wild edibles\, knot tying\, crafts\, games\, zombie hay ride\, costume contest and more.&nbsp\;&nbsp\;&nbsp\;&nbsp\;
LOCATION:Estero Llano Grande State Park 3301 S. International Blvd. Weslaco\, TX
UID:e.1244.4761
SEQUENCE:3
DTSTAMP:20260425T023423Z
URL:https://business.weslaco.com/events/details/spooky-science-fest-at-estero-llano-grande-10-19-2013-4761
END:VEVENT

END:VCALENDAR
