BEGIN:VCALENDAR
VERSION:2.0
PRODID:-//ChamberMaster//Event Calendar 2.0//EN
METHOD:PUBLISH
X-PUBLISHED-TTL:P3D
REFRESH-INTERVAL:P3D
CALSCALE:GREGORIAN
BEGIN:VEVENT
DTSTART:20191019T230000Z
DTEND:20191020T030000Z
X-MICROSOFT-CDO-ALLDAYEVENT:FALSE
SUMMARY:Spooky Science Fest at Estero Llano Grande
DESCRIPTION:Estero Llano Grande State Park presents the 12th Annual Spooky Science Fest - "Night of the Leyendas". Bring your family and friends to explore local folklore and see how nature may have inspired some of our treasured spooky stories. Lechuzas\, chupacabras and more\, await you!
X-ALT-DESC;FMTTYPE=text/html:Estero Llano Grande State Park presents the 12th Annual Spooky Science Fest - &quot\;Night of the Leyendas&quot\;. <span style="color: rgb(64\, 63\, 66)\; font-family: &quot\;Open Sans&quot\;\, sans-serif\; font-size: 14px\; white-space: pre-wrap\;">Bring your family and friends to explore local folklore and see how nature may have inspired some of our treasured spooky stories. Lechuzas\, chupacabras and more\, await you!</span>&nbsp\;&nbsp\;
LOCATION:Estero Llano Grande State Park 3301 S. International Blvd. Weslaco\, TX
UID:e.1244.18778
SEQUENCE:3
DTSTAMP:20260420T025541Z
URL:https://business.weslaco.com/events/details/spooky-science-fest-at-estero-llano-grande-18778
END:VEVENT

END:VCALENDAR
