BEGIN:VCALENDAR
VERSION:2.0
PRODID:-//ChamberMaster//Event Calendar 2.0//EN
METHOD:PUBLISH
X-PUBLISHED-TTL:P3D
REFRESH-INTERVAL:P3D
CALSCALE:GREGORIAN
BEGIN:VEVENT
DTSTART:20190414T000000Z
DTEND:20190414T030000Z
X-MICROSOFT-CDO-ALLDAYEVENT:FALSE
SUMMARY:Spring Feast 2019 at Valley Nature Center
DESCRIPTION:Join us for an epic feast with beer and wine pairings\, live music and live auction.
X-ALT-DESC;FMTTYPE=text/html:<span>Join us for an epic feast with beer and wine pairings\, live music and live auction. </span>
LOCATION:Valley Nature Center 301 S Border Ave\, Weslaco\, Texas 78596
UID:e.1244.17083
SEQUENCE:3
DTSTAMP:20260420T144043Z
URL:https://business.weslaco.com/events/details/spring-feast-2019-at-valley-nature-center-17083
END:VEVENT

END:VCALENDAR
