BEGIN:VCALENDAR
VERSION:2.0
PRODID:-//ChamberMaster//Event Calendar 2.0//EN
METHOD:PUBLISH
X-PUBLISHED-TTL:P3D
REFRESH-INTERVAL:P3D
CALSCALE:GREGORIAN
BEGIN:VEVENT
DTSTART:20150418T233000Z
DTEND:20150419T040000Z
X-MICROSOFT-CDO-ALLDAYEVENT:FALSE
SUMMARY:Spring Feast at Valley Nature Center
DESCRIPTION:Enjoy a five course meal with beer and wine pairings featuring Chef James Canter of Guerilla Gourmet and Jesse Castellon of SPORK.  Live music and live auction.
X-ALT-DESC;FMTTYPE=text/html:Enjoy a five course meal with beer and wine pairings featuring Chef James Canter of Guerilla Gourmet and Jesse Castellon of SPORK. &nbsp\;Live music and live auction.
LOCATION:Valley Nature Center 301 S. Border Weslaco\, TX
UID:e.1244.6263
SEQUENCE:3
DTSTAMP:20260423T210033Z
URL:https://business.weslaco.com/events/details/spring-feast-at-valley-nature-center-04-18-2015-6263
END:VEVENT

END:VCALENDAR
