BEGIN:VCALENDAR
VERSION:2.0
PRODID:-//ChamberMaster//Event Calendar 2.0//EN
METHOD:PUBLISH
X-PUBLISHED-TTL:P3D
REFRESH-INTERVAL:P3D
CALSCALE:GREGORIAN
BEGIN:VEVENT
DTSTART:20200318T000000Z
DTEND:20200318T020000Z
X-MICROSOFT-CDO-ALLDAYEVENT:FALSE
SUMMARY:St. Patrick's Dinner at Tierra Santa Golf & Event Center
DESCRIPTION:Tierra Santa is offering a special St. Patrick's Day Dinner featuring a delicious five course meal.
X-ALT-DESC;FMTTYPE=text/html:Tierra Santa is offering a special St. Patrick&#39\;s Day Dinner featuring a delicious five course meal.&nbsp\;
LOCATION:Tierra Santa Golf & Event Center 1901 Club de Amistad Weslaco\, TX
UID:e.1244.19341
SEQUENCE:3
DTSTAMP:20260419T183503Z
URL:https://business.weslaco.com/events/details/st-patrick-s-dinner-at-tierra-santa-golf-event-center-19341
END:VEVENT

END:VCALENDAR
