BEGIN:VCALENDAR
VERSION:2.0
PRODID:-//ChamberMaster//Event Calendar 2.0//EN
METHOD:PUBLISH
X-PUBLISHED-TTL:P3D
REFRESH-INTERVAL:P3D
CALSCALE:GREGORIAN
BEGIN:VEVENT
DTSTART:20141011T210000Z
DTEND:20141012T030000Z
X-MICROSOFT-CDO-ALLDAYEVENT:FALSE
SUMMARY:St. Pius X Church Fall Festival
DESCRIPTION:Fun for the whole family!  Enjoy live music\, food\, games and rides.  Purchase a $10 ticket for a chance to win a 2014 Dodge Ram.
X-ALT-DESC;FMTTYPE=text/html:Fun for the whole family! &nbsp\;Enjoy live music\, food\, games and rides. &nbsp\;Purchase a $10 ticket for a chance to win a 2014 Dodge Ram.&nbsp\;
LOCATION:600 S. Oklahoma Ave.
UID:e.1244.5963
SEQUENCE:3
DTSTAMP:20260424T051732Z
URL:https://business.weslaco.com/events/details/st-pius-x-church-fall-festival-10-11-2014-5963
END:VEVENT

END:VCALENDAR
