BEGIN:VCALENDAR
VERSION:2.0
PRODID:-//ChamberMaster//Event Calendar 2.0//EN
METHOD:PUBLISH
X-PUBLISHED-TTL:P3D
REFRESH-INTERVAL:P3D
CALSCALE:GREGORIAN
BEGIN:VEVENT
DTSTART:20180508T150000Z
DTEND:20180508T160000Z
X-MICROSOFT-CDO-ALLDAYEVENT:FALSE
SUMMARY:STC McAllen Ribbon Cutting
DESCRIPTION:Celebrate with South Texas College as they commemorate the completion of the Nursing and Allied Health Campus Expansion project which give way to a new four-story facility\, nursing and allied health labs\, a modern library and a state-of-the-art hospital simulation center.\n\n\n\nTo RSVP\, contact 956-872-8302
X-ALT-DESC;FMTTYPE=text/html:Celebrate with South Texas College as they commemorate the completion of the Nursing and Allied Health Campus Expansion project which give way to a new four-story facility\, nursing and allied health labs\, a modern library and a state-of-the-art hospital simulation center.<br />\n<br />\nTo RSVP\, contact 956-872-8302
LOCATION:STC Nursing and Allied Health Campus - Building B 1901 S. McColl\, McAllen\, TX
UID:e.1244.16874
SEQUENCE:3
DTSTAMP:20260421T074733Z
URL:https://business.weslaco.com/events/details/stc-mcallen-ribbon-cutting-16874
END:VEVENT

END:VCALENDAR
