BEGIN:VCALENDAR
VERSION:2.0
PRODID:-//ChamberMaster//Event Calendar 2.0//EN
METHOD:PUBLISH
X-PUBLISHED-TTL:P3D
REFRESH-INTERVAL:P3D
CALSCALE:GREGORIAN
BEGIN:VEVENT
DTSTART:20180426T150000Z
DTEND:20180426T160000Z
X-MICROSOFT-CDO-ALLDAYEVENT:FALSE
SUMMARY:STC Mid Valley Campus Expansion Ribbon Cutting
DESCRIPTION:
X-ALT-DESC;FMTTYPE=text/html:
LOCATION:South Texas College Mid Valley 400 N. Border\, Building K South Weslaco\, Tx
UID:e.1244.16870
SEQUENCE:3
DTSTAMP:20260421T093537Z
URL:https://business.weslaco.com/events/details/stc-mid-valley-campus-expansion-ribbon-cutting-16870
END:VEVENT

END:VCALENDAR
