BEGIN:VCALENDAR
VERSION:2.0
PRODID:-//ChamberMaster//Event Calendar 2.0//EN
METHOD:PUBLISH
X-PUBLISHED-TTL:P3D
REFRESH-INTERVAL:P3D
CALSCALE:GREGORIAN
BEGIN:VEVENT
DTSTART:20181008T230000Z
DTEND:20181009T010000Z
X-MICROSOFT-CDO-ALLDAYEVENT:FALSE
SUMMARY:STC Mid Valley Library Art Gallery Art Talk and Reception
DESCRIPTION:STC Mid Valley Library Art Gallery presents Hydrogen\, Oxygen Carbon\, an exhibit by Luis Corpus\, on view Oct. 8 through Dec. 1. Celebrate the grand re-opening with an art talk and reception featuring artist Luis Corpus.
X-ALT-DESC;FMTTYPE=text/html:STC Mid Valley Library Art Gallery presents Hydrogen\, Oxygen Carbon\, an exhibit by Luis Corpus\, on view Oct. 8 through Dec. 1. Celebrate the grand re-opening with an art talk and reception featuring artist Luis Corpus.
LOCATION:400 N. Border Ave\, E-1.210 Weslaco\, TX
UID:e.1244.16976
SEQUENCE:3
DTSTAMP:20260420T231431Z
URL:https://business.weslaco.com/events/details/stc-mid-valley-library-art-gallery-art-talk-and-reception-16976
END:VEVENT

END:VCALENDAR
