BEGIN:VCALENDAR
VERSION:2.0
PRODID:-//ChamberMaster//Event Calendar 2.0//EN
METHOD:PUBLISH
X-PUBLISHED-TTL:P3D
REFRESH-INTERVAL:P3D
CALSCALE:GREGORIAN
BEGIN:VEVENT
DTSTART:20151111T170000Z
DTEND:20151111T180000Z
X-MICROSOFT-CDO-ALLDAYEVENT:FALSE
SUMMARY:STC Mid Valley Veterans Day Event
DESCRIPTION:STC Mid Valley will be honoring Veterans with a presentation\, the national anthem and guest speaker Francisco Gomez\, Master Chief Quartermaster\, U.S.Navy Retired.
X-ALT-DESC;FMTTYPE=text/html:STC Mid Valley will be honoring Veterans with a presentation\, the national anthem and&nbsp\;guest speaker Francisco Gomez\, Master Chief Quartermaster\, U.S.Navy Retired.
LOCATION:South Texas College Mid-Valley Campus 400 N Border Ave\, Weslaco\, Texas 78596 Main Entrance
UID:e.1244.8763
SEQUENCE:3
DTSTAMP:20260423T095310Z
URL:https://business.weslaco.com/events/details/stc-mid-valley-veterans-day-event-11-11-2015-8763
END:VEVENT

END:VCALENDAR
