BEGIN:VCALENDAR
VERSION:2.0
PRODID:-//ChamberMaster//Event Calendar 2.0//EN
METHOD:PUBLISH
X-PUBLISHED-TTL:P3D
REFRESH-INTERVAL:P3D
CALSCALE:GREGORIAN
BEGIN:VEVENT
DTSTART:20180707T133000Z
DTEND:20180707T170000Z
X-MICROSOFT-CDO-ALLDAYEVENT:FALSE
SUMMARY:STEAM Saturday at Weslaco Museum
DESCRIPTION:The Weslaco Museum is excited to announce the first S.T.E.A.M. Saturday! We're putting together a whole morning for kids to learn the mathematics\, physics\, and engineering of cannons - all while exploring\, creating\, and competing!\n\n\n\nHere are the details you need to know:\n\n- Registration begins at 8:30am\n\n- Geared for kids ages 7-10\n\n- Breakfast and a snack are included\n\n- We'll be outside playing with water for part of the morning\, so make sure kids wear sturdy shoes!
X-ALT-DESC;FMTTYPE=text/html:<span>The Weslaco Museum is excited to announce the first S.T.E.A.M. Saturday! We&#39\;re putting together a whole morning for kids to learn the mathematics\, physics\, and engineering of cannons - all while exploring\, creating\, and competing!<br />\n<br />\nHere are the details you need to know:<br />\n- Registration begins at 8:30am<br />\n- Geared for kids ages 7-10<br />\n- Breakfast and a snack are included<br />\n- We&#39\;ll be outside playing with water for part of the morning\, so make sure kids wear sturdy shoes!</span>
LOCATION:Weslaco Museum 500 S. Texas
UID:e.1244.16920
SEQUENCE:3
DTSTAMP:20260421T044112Z
URL:https://business.weslaco.com/events/details/steam-saturday-at-weslaco-museum-16920
END:VEVENT

END:VCALENDAR
